Workbook

Sheet Útmutató
A4: Útmutató az RICS ESG Property Check List kitöltéséhez
A7: Az 'RICS ESG Property Check List' munkafüzeten
A8: Kérjük minden szürke cella kitöltését. A sötét szürke cellák tartalmaznak legördülő válaszokat, amelyek közül a legmegfelelőbbet szükséges kiválasztani, míg a világos szürke mezők szabadszavasak.
A9: A szürke cellák közül az előre meghatározható értékekkel rendelkezőknél legördülő menüből választhatja ki az értéket, míg a számmezőt az ingatlanra vonatkozó számmal kell kitölteni.
A14: A bevitt értékekből a rózsaszín cellák automatikusan számolnak
A17: Az egyéb cellák nem módosíthatóak annak érdekében, hogy a táblázat struktúrája és tartalma ne változzon
A19: Az 'ESG Score summary' munkafüzet automatikusan kalkulál az 'RICS ESG tenancy check list' munkafüzeten bevitt értékekből
A21: A lista célja, hogy az adott ingatlanra vonatkozó ESG szempontrendszer alapján egy egységes, összehasonlítható szempontrendszer szerint eredményt nyerjünk ki.
A25: A jövőbeni iparági visszajelzések miatt ezen ESG Kérdőív rendszeres frissítése tervezett.

Sheet RICS ESG tenancy check list
C3: ESG Property Check List
C5: INGATLAN ALAPADATOK
C7: Irodaház neve:
C8: Cím
C9: Építési év | I9: Kitöltés ideje:
C10: Az irodaház bérbeadható területe (m2)
C11: parkolóhelyek száma
C13: Van-e az épületnek zöld minősítése? | E13: igen/nem | F13: Minősítési szint | I13: Típus | L13: Minősítés érvényessége
C14: LEED
C15: BREEAM
C16: WELL
C17: FITWEL - Built
C18: Egyéb:
C19: Milyen az épület energetikai besorolása (EPC)?
C21: ENERGIA
C22: Mekkora az épület energia felhasználása (közös területek vonatkozásában) | J22: Egységár
C23: villamosenergia | D23: 2022 | F23: kWh | J23: Ft/kWh | L23: =E23/$E$10 -> #DIV/0! | M23: kWh/m2
C24: villamosenergia | D24: 2023 | F24: kWh | J24: Ft/kWh | L24: =E24/$E$10 -> #DIV/0! | M24: kWh/m2
C25: villamosenergia | D25: 2024 | F25: kWh | J25: Ft/kWh | L25: =E25/$E$10 -> #DIV/0! | M25: kWh/m2
C27: gáz | D27: 2022 | F27: m3 | J27: Ft/m3 | L27: =E27/$E$10 -> #DIV/0! | M27: m3/m2
C28: gáz | D28: 2023 | F28: m3 | J28: Ft/m3 | L28: =E28/$E$10 -> #DIV/0! | M28: m3/m2
C29: gáz | D29: 2024 | F29: m3 | J29: Ft/m3 | L29: =E29/$E$10 -> #DIV/0! | M29: m3/m2
C31: távhő | D31: 2022 | F31: GJ | J31: Ft/GJ | L31: =E31/$E$10 -> #DIV/0! | M31: GJ/m2
C32: távhő | D32: 2023 | F32: GJ | J32: Ft/GJ | L32: =E32/$E$10 -> #DIV/0! | M32: GJ/m2
C33: távhő | D33: 2024 | F33: GJ | J33: Ft/GJ | L33: =E33/$E$10 -> #DIV/0! | M33: GJ/m2
C35: Rendelkezik az épület CO2 kibocsátás jelentéssel (CO2e)?
C36: Használ az épület megújuló energiaforrásokat?
C37: Van rendszeres energiaaudit az épületben?
C38: Mekkora százalékban származik megújuló forrásból a villamosenergia?
C39: Milyen megújuló forrásból származik a villamosenergia?
C40: Van az épületben hulladékhő visszanyerés?
C41: Van az épületben hőszivattyú?
C42: Van az épületben napelem?
C43: Az épületbern lévő napelem teljesítménye:
C44: Van az éjszakai munkára szakaszolható gépészeti rendszer a házban?
C46: VÍZGAZDÁLKODÁS
C47: Fogyasztási adatok
C48: víz | D48: 2022 | F48: m3 | J48: Ft/m3 | L48: =E48/$E$10 -> #DIV/0! | M48: m3/m2
C49: víz | D49: 2023 | F49: m3 | J49: Ft/m3 | L49: =E49/$E$10 -> #DIV/0! | M49: m3/m2
C50: víz | D50: 2024 | F50: m3 | J50: Ft/m3 | L50: =E50/$E$10 -> #DIV/0! | M50: m3/m2
...

Sheet ESG Score summary
B4: PROPERTY ESG Score összesítő
B5: =+'RICS ESG tenancy check list'!E7 -> 0
A6: 5 | B6: Zöld minősítés | C6: =COUNTIFS('RICS ESG tenancy check list'!E14:E18,"igen") -> 0 | D6: =+C6/A6 -> 0
A7: 7 | B7: ='RICS ESG tenancy check list'!C21 -> ENERGIA | C7: =COUNTIFS('RICS ESG tenancy check list'!E35:E44,"igen") -> 0 | D7: =+C7/A7 -> 0
A8: 6 | B8: =+'RICS ESG tenancy check list'!C46 -> VÍZGAZDÁLKODÁS | C8: =COUNTIFS('RICS ESG tenancy check list'!E51:E55,"igen") -> 0 | D8: =+C8/A8 -> 0
A9: 7 | B9: =+'RICS ESG tenancy check list'!C57 -> HULLADÉKGAZDÁLKODÁS | C9: =COUNTIFS('RICS ESG tenancy check list'!E64:E70,"igen") -> 0 | D9: =+C9/A9 -> 0
A10: 2 | B10: =+'RICS ESG tenancy check list'!C72 -> Közlekedési és Mobilitási Megoldások | C10: =COUNTIFS('RICS ESG tenancy check list'!E75:E76,"igen") -> 0 | D10: =+C10/A10 -> 0
A11: 1 | B11: =+'RICS ESG tenancy check list'!C78 -> Levegőminőség és Beltéri Környezet | C11: =COUNTIFS('RICS ESG tenancy check list'!E79,"igen") -> 0 | D11: =+C11/A11 -> 0
A12: 3 | B12: =+'RICS ESG tenancy check list'!C83 -> Biológiai Sokféleség és Zöldfelületek | C12: =COUNTIFS('RICS ESG tenancy check list'!E84:E86,"igen") -> 0 | D12: =+C12/A12 -> 0
A13: 3 | B13: =+'RICS ESG tenancy check list'!C88 -> Társadalmi Szempontok (Social) | C13: =COUNTIFS('RICS ESG tenancy check list'!E90:E92,"igen") -> 0 | D13: =+C13/A13 -> 0
A14: 2 | B14: =+'RICS ESG tenancy check list'!C94 -> Kormányzás és Szabályozás (Governance) | C14: =COUNTIFS('RICS ESG tenancy check list'!E95:E96,"igen") -> 0 | D14: =+C14/A14 -> 0
A15: 3 | B15: =+'RICS ESG tenancy check list'!C98 -> Kockázatkezelés és Ellenállóképesség | C15: =COUNTIFS('RICS ESG tenancy check list'!E99:E101,"igen") -> 0 | D15: =+C15/A15 -> 0
A16: =SUM(A6:A15) -> 39 | B16: Pontszám | C16: =SUM(C6:C15) -> 0 | D16: =C16/A16 -> 0
